BEGIN:VCALENDAR
VERSION:2.0
PRODID:-//ADMEC Multimedia Institute - ECPv6.15.18//NONSGML v1.0//EN
CALSCALE:GREGORIAN
METHOD:PUBLISH
X-WR-CALNAME:ADMEC Multimedia Institute
X-ORIGINAL-URL:https://www.admecindia.co.in
X-WR-CALDESC:Events for ADMEC Multimedia Institute
REFRESH-INTERVAL;VALUE=DURATION:PT1H
X-Robots-Tag:noindex
X-PUBLISHED-TTL:PT1H
BEGIN:VTIMEZONE
TZID:Asia/Kolkata
BEGIN:STANDARD
TZOFFSETFROM:+0530
TZOFFSETTO:+0530
TZNAME:IST
DTSTART:20240101T000000
END:STANDARD
END:VTIMEZONE
BEGIN:VEVENT
DTSTART;TZID=Asia/Kolkata:20251201T100000
DTEND;TZID=Asia/Kolkata:20251203T130000
DTSTAMP:20260420T203817
CREATED:20251210T122832Z
LAST-MODIFIED:20251212T074853Z
UID:111086-1764583200-1764766800@www.admecindia.co.in
SUMMARY:Outdoor Sketching Sessions 2025
DESCRIPTION:Training at ADMEC Multimedia Institute is not limited to classrooms only. We give freedom to our students to step out of the walls of their classes and experience the world of designing under an open sky. That’s why we organize special sessions for outdoor learning. This year\, too\, we conducted the Outdoor Sketching Sessions 2025 in the winter season. \nOur commercial art instructors\, Promila Mam and Sahil Sir\, joined the students to guide them on how to observe everything like an artist. \nInstructors guiding Students\nOverview of 3-Day Outdoor Sketching Sessions 2025\n\nDuration: 03 Days\nDates: 1st\, 2nd & 3rd December\nInstructors: Mrs Promila Dhanderwal and Mr. Sahil Kumar\, our professionals in commercial art.\nParticipants: Around 20-25 students from different designing courses attended all three sessions enthusiastically. They brought pencils\, colors\, and sketchbooks to capture the beauty of nature. The environment became full of creative energy.\nSessions Location: Rohini District Park\, Sector 9\, Delhi – 110085\n\nDay-by-Day Highlights of Outdoor Learning\nDay-1 Capturing the Moment\nOn day 1\, our instructors guided students to capture one of the scenes from the wide view of the district park. The park was so large with various beautiful spots to pick for artwork creation. \n \nThe very first skill that students learned on day 1 was detailed observation of surroundings. Every student learned how to capture live scenes and selected the best possible spot to start their sketching. \nAdditionally\, our mentors guided students on photography that covered concepts like how to take with proper framing\, angles\, and perspectives. \nTrainers guiding students on Photography\nFor the first day\, all students were asked to create pencil sketches of the scenes they selected. The main part was to maintain the right perspective\, angle\, and proportions in the sketching.  \nInstructors Working on Artwork\nOur trainers presented live sketching and shading using various types of pencils. They taught how to draw shadows and highlights in the artwork. Students followed their instructions\, and their results were amazing. \nSome of the works from day 1 of the outdoor session 2025\nMayank’s Work\nAnjali’s & Varun’s Work\nDay-2: From Sketch to Color\nNow\, day 2 started\, and it brought colors with it. All the students were ready with pencils and colors in their hands to create 2nd artwork. This time\, students were asked to draw a new scene with colored pencils instead of plain black and white sketching. \nBoth trainers helped students to understand the concepts of color blending and shading using colored pencils. \nSome of the works from day 2 of the outdoor session 2025 \nAnjali Day 2 Outdoor Work\nDay 3 Painting & Final Touches\nOn the final day\, students had to use different colors of painting like watercolors\, poster colors\, and acrylic colors.  \nStudents working with Acrylic Paints\nThis was a bit challenging in the beginning\, but with the right training from our art mentors\, it became easier for students.  \nStudents experimented with paint brushes\, applied different strokes and textures to their artwork. And the results were outstanding. \nSome of the works from day 3 of the outdoor session 2025\nAnjali Day 3 Outdoor Work\nMayank Day 3 Outdoor Work\nVarun Day 3 Outdoor Work\nWhy These Outdoor Art Visualization Sessions Matter?\n\nVisual Observation Training: From day 1\, students started learning practical implementation of visual observation\, photography\, and sketching techniques. This later became more advanced with colors and creativity for students. \nHolistic Learning: These sessions gave students a chance to learn together with nature. They understood various concepts from perspective\, light\, shadow\, proportion\, sketching\, to painting.\nConfidence Building: The main thing that every student gained was confidence in their visualization skills. They are now capable of capturing a scene\, sketching\, and painting it on their own.\n\nFinal Thoughts on Outdoor Session\n\nOur outdoor sketching sessions came to an end on the last day\, i.e.\, 3rd December 2025. All the sessions were packed with creativity\, fun\, and exploration of new skills\, with a new learning experience for all. \nStudents loved these sessions as they got the chance to sketch and paint the beauty of nature in a warm environment. \nYou can also explore some of our previous outdoor sketching sessions to see how we conduct these classes for the students every year.
URL:https://www.admecindia.co.in/event/outdoor-sketching-sessions-2025/
LOCATION:Rohini District Park\, New Delhi\, 110085\, India
CATEGORIES:Our Outdoor Sessions
ATTACH;FMTTYPE=image/jpeg:https://www.admecindia.co.in/wp-content/uploads/2025/12/Outdoor-Sketching-Sessions-2025.jpg
END:VEVENT
END:VCALENDAR